BEGIN:VCALENDAR
VERSION:2.0
PRODID:-//Hamburgi Magyarok eV - ECPv6.15.17.1//NONSGML v1.0//EN
CALSCALE:GREGORIAN
METHOD:PUBLISH
X-WR-CALNAME:Hamburgi Magyarok eV
X-ORIGINAL-URL:https://hamburgi-magyarok-ev.de
X-WR-CALDESC:Események Hamburgi Magyarok eV
REFRESH-INTERVAL;VALUE=DURATION:PT1H
X-Robots-Tag:noindex
X-PUBLISHED-TTL:PT1H
BEGIN:VTIMEZONE
TZID:UTC
BEGIN:STANDARD
TZOFFSETFROM:+0000
TZOFFSETTO:+0000
TZNAME:UTC
DTSTART:20240101T000000
END:STANDARD
END:VTIMEZONE
BEGIN:VEVENT
DTSTART;TZID=UTC:20250111T140000
DTEND;TZID=UTC:20250111T170000
DTSTAMP:20260426T032558
CREATED:20240806T113608Z
LAST-MODIFIED:20241024T091426Z
UID:30565-1736604000-1736614800@hamburgi-magyarok-ev.de
SUMMARY:Hamburgi Magyar Iskola
DESCRIPTION:Ovis és bölcsis foglalkozások\, előkészítő\, alsó és felső tagozatos csoportok\, valamint tini csoport a 13-16 éveseknek. \nHamburgi Magyar Iskola \n \nBejelentkezés\, érdeklődés: kapcsolat@hmi-schule.de
URL:https://hamburgi-magyarok-ev.de/event/hmi-6/
LOCATION:Charlotte-Paulsen-Gymnasium\, Bovestraẞe 6\, Hamburg
ORGANIZER;CN="Hamburgi Magyar Iskola":MAILTO:hmi-titkarsag@Google groups.com
END:VEVENT
BEGIN:VEVENT
DTSTART;TZID=UTC:20250125T140000
DTEND;TZID=UTC:20250125T170000
DTSTAMP:20260426T032558
CREATED:20240806T114259Z
LAST-MODIFIED:20241024T091438Z
UID:30568-1737813600-1737824400@hamburgi-magyarok-ev.de
SUMMARY:Hamburgi Magyar Iskola
DESCRIPTION:Ovis és bölcsis foglalkozások\, előkészítő\, alsó és felső tagozatos csoportok\, valamint tini csoport a 13-16 éveseknek. \nHamburgi Magyar Iskola \n \nBejelentkezés\, érdeklődés: kapcsolat@hmi-schule.de
URL:https://hamburgi-magyarok-ev.de/event/hmi-7/
LOCATION:Charlotte-Paulsen-Gymnasium\, Bovestraẞe 6\, Hamburg
ORGANIZER;CN="Hamburgi Magyar Iskola":MAILTO:hmi-titkarsag@Google groups.com
END:VEVENT
END:VCALENDAR